BEGIN:VCALENDAR
VERSION:2.0
PRODID:-//Squarespace Inc/Squarespace 6//v6//EN
BEGIN:VEVENT
UID:5b8cc8e8898583fbc6bf680c@squarespace.com
DTSTAMP:20180903T071439Z
DTSTART:20190206T073000Z
DTEND:20190206T093000Z
SUMMARY:PROPERTY WOW (Date tentative this stage)
GEO:-32.928271;151.78168
LOCATION:Venue to be advised\, Newcastle NSW
END:VEVENT
END:VCALENDAR
